BEGIN:VCALENDAR
VERSION:2.0
PRODID:-//eventon.com NONSGML v1.0//EN
CALSCALE:GREGORIAN
METHOD:PUBLISH
BEGIN:VEVENT
UID:69e737ea91e79
DTSTAMP:20260421T084010Z
DTSTART:20250401T183000Z
DTEND:20250401T200000Z
LOCATION:
SUMMARY:Sensibilisation MC à Hamois (EL)
DESCRIPTION:Vous souhaitez offrir de la visibilité à votre commerce\,  vo
 tre activité ou votre entreprise ? Profitez de la plateforme moncondroz.be
 \,  l’annuaire en ligne du Condroz ! Envie d’en savoir plus et d’êtr
 e accompagné pour créer votre fiche ? Rendez-vous le mardi 1er avril de 1
 8h30 à 20h au Centre sportif[..]\nhttps://coeurdecondroz.be/events/sensibi
 lisation-mc-a-hamois-el/
URL:https://coeurdecondroz.be/events/sensibilisation-mc-a-hamois-el/
END:VEVENT
END:VCALENDAR